BEGIN:VCALENDAR
VERSION:2.0
PRODID:Sunset Valley, TX Calendar Creator
METHOD:PUBLISH
BEGIN:VEVENT
DTSTAMP:20260304T120357
DTSTART:20270101T000000
DTEND:20270101T235900
SUMMARY:New Year's Day (City Offices Closed)
DESCRIPTION:City Offices are Closed for New Year's Day.
X-ALT-DESC;FMTTYPE=text/html:City Offices are Closed for New Year's Day.
LOCATION:
CLASS:PUBLIC
END:VEVENT
END:VCALENDAR
