BEGIN:VCALENDAR
VERSION:2.0
PRODID:Sunset Valley, TX Calendar Creator
METHOD:PUBLISH
BEGIN:VEVENT
DTSTAMP:20260304T120224
DTSTART:20261224T000000
DTEND:20261225T235900
SUMMARY:Christmas (City Offices Closed)
DESCRIPTION:City offices are closed for the Christmas Holidays.
X-ALT-DESC;FMTTYPE=text/html:City offices are closed for the Christmas Holidays.
LOCATION:
CLASS:PUBLIC
END:VEVENT
END:VCALENDAR
