BEGIN:VCALENDAR
VERSION:2.0
PRODID:Sunset Valley, TX Calendar Creator
METHOD:PUBLISH
BEGIN:VEVENT
DTSTAMP:20260304T115832
DTSTART:20261126T000000
DTEND:20261127T235900
SUMMARY:Thanksgiving (City Offices Closed)
DESCRIPTION:City Offices are closed for the Thanksgiving Holidays.
X-ALT-DESC;FMTTYPE=text/html:City Offices are closed for the Thanksgiving Holidays.
LOCATION:
CLASS:PUBLIC
END:VEVENT
END:VCALENDAR
