BEGIN:VCALENDAR
VERSION:2.0
PRODID:Sunset Valley, TX Calendar Creator
METHOD:PUBLISH
BEGIN:VEVENT
DTSTAMP:20260302T132406
DTSTART:20260318T000000
DTEND:20260318T235900
SUMMARY:Bulk Item Pick-Up
DESCRIPTION:
X-ALT-DESC;FMTTYPE=text/html:
LOCATION:
CLASS:PUBLIC
END:VEVENT
END:VCALENDAR
