BEGIN:VCALENDAR
VERSION:2.0
PRODID:Sunset Valley, TX Calendar Creator
METHOD:PUBLISH
BEGIN:VEVENT
DTSTAMP:20260224T141507
DTSTART:20260226T000000
DTEND:20260226T235900
SUMMARY:Monthly Curbside Brush Pick Up
DESCRIPTION:<p>The Public Works Department will host curbside brush pick up on the last Thursday of the month. Residents are encouraged to place brush along the curb for removal.&nbsp;Please do not place brush in the street or impede drainage.&nbsp;This will allow the department to remove brush from each location.</p><p>If you have any questions please contact Public Works at 512-891-9103.</p>
X-ALT-DESC;FMTTYPE=text/html:<p>The Public Works Department will host curbside brush pick up on the last Thursday of the month. Residents are encouraged to place brush along the curb for removal.&nbsp;Please do not place brush in the street or impede drainage.&nbsp;This will allow the department to remove brush from each location.</p><p>If you have any questions please contact Public Works at 512-891-9103.</p>
LOCATION:
CLASS:PUBLIC
END:VEVENT
END:VCALENDAR
