BEGIN:VCALENDAR
VERSION:2.0
PRODID:Sunset Valley, TX Calendar Creator
METHOD:PUBLISH
BEGIN:VEVENT
DTSTAMP:20260224T141220
DTSTART:20260225T000000
DTEND:20260225T235900
SUMMARY:Green Waste Collection
DESCRIPTION:
X-ALT-DESC;FMTTYPE=text/html:
LOCATION:
CLASS:PUBLIC
END:VEVENT
END:VCALENDAR
