BEGIN:VCALENDAR
VERSION:2.0
PRODID:Sunset Valley, TX Calendar Creator
METHOD:PUBLISH
BEGIN:VEVENT
DTSTAMP:20260224T094001
DTSTART:20260425T100000
DTEND:20260425T170000
SUMMARY:ARTFEST
DESCRIPTION:Join us for the 18th&nbsp;Annual Sunset Valley ARTFEST, April 25, 2026, hosted by the City of Sunset Valley Arts Commission. For the past few years, ARTFEST has had a record number of art and food booths with over 120 artisans showcasing their handmade merchandise including oil paintings, drawings, sculptures, glass creations, jewelry designs, metal and woodwork items, and much more. This is a one-day event from 10 a.m. – 5 p.m. with over 8,000 attendees. The FREE ADMISSION event offers something for everyone in the family with avenues of artisans, with live music from local Austin area talent, local food trucks, and a separate area for children's fun and interactive activities including Adventure Build.
X-ALT-DESC;FMTTYPE=text/html:Join us for the 18th&nbsp;Annual Sunset Valley ARTFEST, April 25, 2026, hosted by the City of Sunset Valley Arts Commission. For the past few years, ARTFEST has had a record number of art and food booths with over 120 artisans showcasing their handmade merchandise including oil paintings, drawings, sculptures, glass creations, jewelry designs, metal and woodwork items, and much more. This is a one-day event from 10 a.m. – 5 p.m. with over 8,000 attendees. The FREE ADMISSION event offers something for everyone in the family with avenues of artisans, with live music from local Austin area talent, local food trucks, and a separate area for children's fun and interactive activities including Adventure Build.
LOCATION:Toney Burger Center\, 3200 Jones Road Sunset Valley\, Texas 78745
CLASS:PUBLIC
END:VEVENT
END:VCALENDAR
