BEGIN:VCALENDAR
VERSION:2.0
PRODID:Sunset Valley, TX Calendar Creator
METHOD:PUBLISH
BEGIN:VEVENT
DTSTAMP:20260403T072313
DTSTART:20260418T100000
DTEND:20260418T120000
SUMMARY:Pocket Prairie Demonstration Workshop Session Two
DESCRIPTION:<p>Pocket Prairie Demonstration Workshop</p><p>Saturday, April 18</p><p>10:00-Noon</p><p>Sunset Valley City Hall- City Hall Backyard Area</p><p>&nbsp;Join us for a two-part workshop on developing a pocket prairie. The first class will be held on Saturday March 14th and the second on April 18th. These workshops will be led by David Mahler, a restoration ecologist with decades of experience in prairie restoration. &nbsp;The first workshop will focus on site assessment, and the second workshop will be to plant the new prairie garden in the City Hall Backyard Area.&nbsp;&nbsp;</p>
X-ALT-DESC;FMTTYPE=text/html:<p>Pocket Prairie Demonstration Workshop</p><p>Saturday, April 18</p><p>10:00-Noon</p><p>Sunset Valley City Hall- City Hall Backyard Area</p><p>&nbsp;Join us for a two-part workshop on developing a pocket prairie. The first class will be held on Saturday March 14th and the second on April 18th. These workshops will be led by David Mahler, a restoration ecologist with decades of experience in prairie restoration. &nbsp;The first workshop will focus on site assessment, and the second workshop will be to plant the new prairie garden in the City Hall Backyard Area.&nbsp;&nbsp;</p>
LOCATION:Sunset Valley City Hall\, 3205 Jones Road Sunset Valley\, Texas 78745
CLASS:PUBLIC
END:VEVENT
END:VCALENDAR
